Package: muscle Version: 3.49.0 Command: chmod a+r muscle -R && E:\biocbuild\bbs-3.21-bioc\R\bin\R.exe CMD build --keep-empty-dirs --no-resave-data muscle StartedAt: 2025-02-20 20:19:33 -0500 (Thu, 20 Feb 2025) EndedAt: 2025-02-20 20:20:08 -0500 (Thu, 20 Feb 2025) EllapsedTime: 35.0 seconds RetCode: 1 Status: ERROR PackageFile: None PackageFileSize: NA