Package: muscle Version: 3.49.0 Command: /Library/Frameworks/R.framework/Resources/bin/R CMD INSTALL muscle StartedAt: 2025-02-19 15:09:25 -0500 (Wed, 19 Feb 2025) EndedAt: 2025-02-19 15:09:46 -0500 (Wed, 19 Feb 2025) EllapsedTime: 20.4 seconds RetCode: 1 Status: ERROR