Package: muscle Version: 3.49.0 Command: /Library/Frameworks/R.framework/Resources/bin/R CMD build --keep-empty-dirs --no-resave-data muscle StartedAt: 2025-02-19 17:33:55 -0500 (Wed, 19 Feb 2025) EndedAt: 2025-02-19 17:34:13 -0500 (Wed, 19 Feb 2025) EllapsedTime: 18.3 seconds RetCode: 1 Status: ERROR PackageFile: None PackageFileSize: NA