Package: muscat Version: 1.21.0 Command: /Library/Frameworks/R.framework/Resources/bin/R CMD INSTALL muscat StartedAt: 2025-02-20 15:39:05 -0500 (Thu, 20 Feb 2025) EndedAt: 2025-02-20 15:39:55 -0500 (Thu, 20 Feb 2025) EllapsedTime: 49.9 seconds RetCode: 0 Status: OK