Package: muscat Version: 1.21.0 Command: /Library/Frameworks/R.framework/Resources/bin/R CMD check --install=check:muscat.install-out.txt --library=/Library/Frameworks/R.framework/Resources/library --no-vignettes --timings muscat_1.21.0.tar.gz StartedAt: 2025-02-20 21:57:34 -0500 (Thu, 20 Feb 2025) EndedAt: 2025-02-20 22:04:32 -0500 (Thu, 20 Feb 2025) EllapsedTime: 417.9 seconds RetCode: 0 Status: OK CheckDir: muscat.Rcheck Warnings: 0