Package: muscat Version: 1.21.0 Command: /home/biocbuild/R/R/bin/R CMD check --install=check:muscat.install-out.txt --library=/home/biocbuild/R/R/site-library --no-vignettes --timings muscat_1.21.0.tar.gz StartedAt: 2025-01-28 13:07:24 -0000 (Tue, 28 Jan 2025) EndedAt: 2025-01-28 13:17:39 -0000 (Tue, 28 Jan 2025) EllapsedTime: 614.6 seconds RetCode: 0 Status: OK CheckDir: muscat.Rcheck Warnings: 0