Package: mumosa Version: 1.15.0 Command: E:\biocbuild\bbs-3.21-bioc\R\bin\R.exe CMD INSTALL mumosa StartedAt: 2025-02-19 16:54:00 -0500 (Wed, 19 Feb 2025) EndedAt: 2025-02-19 16:54:37 -0500 (Wed, 19 Feb 2025) EllapsedTime: 37.2 seconds RetCode: 0 Status: OK