Package: mumosa Version: 1.15.0 Command: /Library/Frameworks/R.framework/Resources/bin/R CMD INSTALL mumosa StartedAt: 2025-02-19 15:40:31 -0500 (Wed, 19 Feb 2025) EndedAt: 2025-02-19 15:41:10 -0500 (Wed, 19 Feb 2025) EllapsedTime: 39.2 seconds RetCode: 0 Status: OK