Package: mumosa Version: 1.15.0 Command: /Library/Frameworks/R.framework/Resources/bin/R CMD INSTALL mumosa StartedAt: 2025-02-19 15:25:50 -0500 (Wed, 19 Feb 2025) EndedAt: 2025-02-19 15:26:02 -0500 (Wed, 19 Feb 2025) EllapsedTime: 11.7 seconds RetCode: 0 Status: OK