Package: multtest Version: 2.63.0 Command: E:\biocbuild\bbs-3.21-bioc\R\bin\R.exe CMD INSTALL multtest StartedAt: 2025-02-17 15:56:23 -0500 (Mon, 17 Feb 2025) EndedAt: 2025-02-17 15:56:55 -0500 (Mon, 17 Feb 2025) EllapsedTime: 32.5 seconds RetCode: 0 Status: OK