Package: multtest Version: 2.63.0 Command: rm -rf multtest.buildbin-libdir && mkdir multtest.buildbin-libdir && E:\biocbuild\bbs-3.21-bioc\R\bin\R.exe CMD INSTALL --build --library=multtest.buildbin-libdir multtest_2.63.0.tar.gz StartedAt: 2025-02-18 07:50:39 -0500 (Tue, 18 Feb 2025) EndedAt: 2025-02-18 07:51:14 -0500 (Tue, 18 Feb 2025) EllapsedTime: 35.3 seconds RetCode: 0 Status: OK PackageFile: multtest_2.63.0.zip PackageFileSize: 834 KiB