Package: multistateQTL Version: 1.3.2 Command: E:\biocbuild\bbs-3.21-bioc\R\bin\R.exe CMD check --no-multiarch --install=check:multistateQTL.install-out.txt --library=E:\biocbuild\bbs-3.21-bioc\R\library --no-vignettes --timings multistateQTL_1.3.2.tar.gz StartedAt: 2025-02-21 03:45:30 -0500 (Fri, 21 Feb 2025) EndedAt: 2025-02-21 03:50:16 -0500 (Fri, 21 Feb 2025) EllapsedTime: 286.0 seconds RetCode: 0 Status: OK CheckDir: multistateQTL.Rcheck Warnings: 0