Package: multistateQTL Version: 1.3.2 Command: chmod a+r multistateQTL -R && E:\biocbuild\bbs-3.21-bioc\R\bin\R.exe CMD build --keep-empty-dirs --no-resave-data multistateQTL StartedAt: 2025-02-20 20:18:44 -0500 (Thu, 20 Feb 2025) EndedAt: 2025-02-20 20:20:21 -0500 (Thu, 20 Feb 2025) EllapsedTime: 97.3 seconds RetCode: 0 Status: OK PackageFile: multistateQTL_1.3.2.tar.gz PackageFileSize: 491 KiB