Package: multistateQTL Version: 1.3.2 Command: /home/biocbuild/bbs-3.21-bioc/R/bin/R CMD INSTALL multistateQTL StartedAt: 2025-02-20 15:44:03 -0500 (Thu, 20 Feb 2025) EndedAt: 2025-02-20 15:44:31 -0500 (Thu, 20 Feb 2025) EllapsedTime: 27.3 seconds RetCode: 0 Status: OK