Package: multistateQTL Version: 1.3.2 Command: /Library/Frameworks/R.framework/Resources/bin/R CMD INSTALL multistateQTL StartedAt: 2025-02-20 15:43:42 -0500 (Thu, 20 Feb 2025) EndedAt: 2025-02-20 15:44:18 -0500 (Thu, 20 Feb 2025) EllapsedTime: 36.1 seconds RetCode: 0 Status: OK