Package: multistateQTL Version: 1.3.2 Command: /Library/Frameworks/R.framework/Resources/bin/R CMD check --install=check:multistateQTL.install-out.txt --library=/Library/Frameworks/R.framework/Resources/library --no-vignettes --timings multistateQTL_1.3.2.tar.gz StartedAt: 2025-02-20 21:56:58 -0500 (Thu, 20 Feb 2025) EndedAt: 2025-02-20 22:01:18 -0500 (Thu, 20 Feb 2025) EllapsedTime: 259.8 seconds RetCode: 0 Status: OK CheckDir: multistateQTL.Rcheck Warnings: 0