Package: multistateQTL Version: 1.3.2 Command: /Library/Frameworks/R.framework/Resources/bin/R CMD check --install=check:multistateQTL.install-out.txt --library=/Library/Frameworks/R.framework/Resources/library --no-vignettes --timings multistateQTL_1.3.2.tar.gz StartedAt: 2025-02-20 20:25:26 -0500 (Thu, 20 Feb 2025) EndedAt: 2025-02-20 20:26:54 -0500 (Thu, 20 Feb 2025) EllapsedTime: 88.0 seconds RetCode: 0 Status: OK CheckDir: multistateQTL.Rcheck Warnings: 0