Package: multiscan Version: 1.67.0 Command: /Library/Frameworks/R.framework/Resources/bin/R CMD build --keep-empty-dirs --no-resave-data multiscan StartedAt: 2025-02-18 17:05:17 -0500 (Tue, 18 Feb 2025) EndedAt: 2025-02-18 17:05:23 -0500 (Tue, 18 Feb 2025) EllapsedTime: 6.1 seconds RetCode: 0 Status: OK PackageFile: multiscan_1.67.0.tar.gz PackageFileSize: 751.1 KiB