Package: multicrispr Version: 1.17.1 Command: E:\biocbuild\bbs-3.21-bioc\R\bin\R.exe CMD INSTALL multicrispr StartedAt: 2025-02-20 16:55:45 -0500 (Thu, 20 Feb 2025) EndedAt: 2025-02-20 16:57:10 -0500 (Thu, 20 Feb 2025) EllapsedTime: 84.7 seconds RetCode: 0 Status: OK