Package: multicrispr Version: 1.17.1 Command: chmod a+r multicrispr -R && E:\biocbuild\bbs-3.21-bioc\R\bin\R.exe CMD build --keep-empty-dirs --no-resave-data multicrispr StartedAt: 2025-02-20 20:17:15 -0500 (Thu, 20 Feb 2025) EndedAt: 2025-02-20 20:20:52 -0500 (Thu, 20 Feb 2025) EllapsedTime: 216.5 seconds RetCode: 0 Status: OK PackageFile: multicrispr_1.17.1.tar.gz PackageFileSize: 1.967 MiB