Package: multicrispr Version: 1.17.1 Command: /Library/Frameworks/R.framework/Resources/bin/R CMD INSTALL multicrispr StartedAt: 2025-02-20 15:42:00 -0500 (Thu, 20 Feb 2025) EndedAt: 2025-02-20 15:42:47 -0500 (Thu, 20 Feb 2025) EllapsedTime: 47.1 seconds RetCode: 0 Status: OK