Package: multicrispr Version: 1.17.1 Command: /Library/Frameworks/R.framework/Resources/bin/R CMD check --install=check:multicrispr.install-out.txt --library=/Library/Frameworks/R.framework/Resources/library --no-vignettes --timings multicrispr_1.17.1.tar.gz StartedAt: 2025-02-20 21:54:35 -0500 (Thu, 20 Feb 2025) EndedAt: 2025-02-20 22:01:41 -0500 (Thu, 20 Feb 2025) EllapsedTime: 426.6 seconds RetCode: 0 Status: OK CheckDir: multicrispr.Rcheck Warnings: 0