Package: multicrispr Version: 1.17.1 Command: rm -rf multicrispr.buildbin-libdir && mkdir multicrispr.buildbin-libdir && /Users/biocbuild/BBS/utils/build-universal.sh multicrispr_1.17.1.tar.gz /Library/Frameworks/R.framework/Resources/bin/R multicrispr.buildbin-libdir StartedAt: 2025-02-21 00:42:17 -0500 (Fri, 21 Feb 2025) EndedAt: 2025-02-21 00:43:09 -0500 (Fri, 21 Feb 2025) EllapsedTime: 51.9 seconds RetCode: 0 Status: OK PackageFile: multicrispr_1.17.1.tgz PackageFileSize: 2.743 MiB