Package: multiWGCNA Version: 1.5.0 Command: /Library/Frameworks/R.framework/Resources/bin/R CMD INSTALL multiWGCNA StartedAt: 2025-02-18 15:32:44 -0500 (Tue, 18 Feb 2025) EndedAt: 2025-02-18 15:33:27 -0500 (Tue, 18 Feb 2025) EllapsedTime: 42.4 seconds RetCode: 0 Status: OK