Package: multiWGCNA Version: 1.5.0 Command: rm -rf multiWGCNA.buildbin-libdir && mkdir multiWGCNA.buildbin-libdir && /Users/biocbuild/BBS/utils/build-universal.sh multiWGCNA_1.5.0.tar.gz /Library/Frameworks/R.framework/Resources/bin/R multiWGCNA.buildbin-libdir StartedAt: 2025-02-19 00:36:37 -0500 (Wed, 19 Feb 2025) EndedAt: 2025-02-19 00:37:24 -0500 (Wed, 19 Feb 2025) EllapsedTime: 47.3 seconds RetCode: 0 Status: OK PackageFile: multiWGCNA_1.5.0.tgz PackageFileSize: 3.931 MiB