Package: multiWGCNA Version: 1.5.0 Command: /Library/Frameworks/R.framework/Resources/bin/R CMD check --install=check:multiWGCNA.install-out.txt --library=/Library/Frameworks/R.framework/Resources/library --no-vignettes --timings multiWGCNA_1.5.0.tar.gz StartedAt: 2025-02-18 20:27:43 -0500 (Tue, 18 Feb 2025) EndedAt: 2025-02-18 20:31:32 -0500 (Tue, 18 Feb 2025) EllapsedTime: 229.0 seconds RetCode: 0 Status: OK CheckDir: multiWGCNA.Rcheck Warnings: 0