Package: multiWGCNA Version: 1.5.0 Command: rm -rf multiWGCNA.buildbin-libdir && mkdir multiWGCNA.buildbin-libdir && /Users/biocbuild/BBS/utils/build-universal.sh multiWGCNA_1.5.0.tar.gz /Library/Frameworks/R.framework/Resources/bin/R multiWGCNA.buildbin-libdir StartedAt: 2025-02-18 22:30:16 -0500 (Tue, 18 Feb 2025) EndedAt: 2025-02-18 22:30:30 -0500 (Tue, 18 Feb 2025) EllapsedTime: 14.2 seconds RetCode: 0 Status: OK PackageFile: multiWGCNA_1.5.0.tgz PackageFileSize: 3.931 MiB