Package: multiMiR Version: 1.29.0 Command: rm -rf multiMiR.buildbin-libdir && mkdir multiMiR.buildbin-libdir && E:\biocbuild\bbs-3.21-bioc\R\bin\R.exe CMD INSTALL --build --library=multiMiR.buildbin-libdir multiMiR_1.29.0.tar.gz StartedAt: 2025-02-21 08:37:56 -0500 (Fri, 21 Feb 2025) EndedAt: 2025-02-21 08:38:40 -0500 (Fri, 21 Feb 2025) EllapsedTime: 43.2 seconds RetCode: 0 Status: OK PackageFile: multiMiR_1.29.0.zip PackageFileSize: 638.6 KiB