Package: multiMiR Version: 1.29.0 Command: /home/biocbuild/bbs-3.21-bioc/R/bin/R CMD check --install=check:multiMiR.install-out.txt --library=/home/biocbuild/bbs-3.21-bioc/R/site-library --timings multiMiR_1.29.0.tar.gz StartedAt: 2025-02-21 00:03:10 -0500 (Fri, 21 Feb 2025) EndedAt: 2025-02-21 00:43:10 -0500 (Fri, 21 Feb 2025) EllapsedTime: 2400.2 seconds RetCode: None Status: TIMEOUT CheckDir: multiMiR.Rcheck Warnings: NA