Package: multiMiR Version: 1.29.0 Command: /Library/Frameworks/R.framework/Resources/bin/R CMD build --keep-empty-dirs --no-resave-data multiMiR StartedAt: 2025-02-20 17:33:01 -0500 (Thu, 20 Feb 2025) EndedAt: 2025-02-20 17:34:25 -0500 (Thu, 20 Feb 2025) EllapsedTime: 83.7 seconds RetCode: 0 Status: OK PackageFile: multiMiR_1.29.0.tar.gz PackageFileSize: 332.5 KiB