Package: multiMiR Version: 1.29.0 Command: /Library/Frameworks/R.framework/Resources/bin/R CMD check --install=check:multiMiR.install-out.txt --library=/Library/Frameworks/R.framework/Resources/library --no-vignettes --timings multiMiR_1.29.0.tar.gz StartedAt: 2025-02-19 20:28:19 -0500 (Wed, 19 Feb 2025) EndedAt: 2025-02-19 20:29:13 -0500 (Wed, 19 Feb 2025) EllapsedTime: 53.7 seconds RetCode: 0 Status: OK CheckDir: multiMiR.Rcheck Warnings: 0