############################################################################## ############################################################################## ### ### Running command: ### ### /Library/Frameworks/R.framework/Resources/bin/R CMD build --keep-empty-dirs --no-resave-data multiMiR ### ############################################################################## ############################################################################## * checking for file ‘multiMiR/DESCRIPTION’ ... OK * preparing ‘multiMiR’: * checking DESCRIPTION meta-information ... OK * installing the package to build vignettes ----------------------------------- * installing *source* package ‘multiMiR’ ... ** this is package ‘multiMiR’ version ‘1.29.0’ ** using staged installation ** R ** inst ** byte-compile and prepare package for lazy loading ** help *** installing help indices ** building package indices ** installing vignettes ** testing if installed package can be loaded from temporary location Error: package or namespace load failed for ‘multiMiR’: .onLoad failed in loadNamespace() for 'multiMiR', details: call: NULL error: Internal Server Error Error: loading failed Execution halted ERROR: loading failed * removing ‘/private/var/folders/r0/l4fjk6cj5xj0j3brt4bplpl40000gt/T/RtmpgF6294/Rinst126152cf9ac06/multiMiR’ ----------------------------------- ERROR: package installation failed