Package: multiMiR Version: 1.29.0 Command: rm -rf multiMiR.buildbin-libdir && mkdir multiMiR.buildbin-libdir && /Users/biocbuild/BBS/utils/build-universal.sh multiMiR_1.29.0.tar.gz /Library/Frameworks/R.framework/Resources/bin/R multiMiR.buildbin-libdir StartedAt: 2025-02-19 22:30:39 -0500 (Wed, 19 Feb 2025) EndedAt: 2025-02-19 22:30:48 -0500 (Wed, 19 Feb 2025) EllapsedTime: 8.2 seconds RetCode: 0 Status: OK PackageFile: multiMiR_1.29.0.tgz PackageFileSize: 635.1 KiB