Package: multiGSEA Version: 1.17.3 Command: /Library/Frameworks/R.framework/Resources/bin/R CMD build --keep-empty-dirs --no-resave-data multiGSEA StartedAt: 2025-02-19 17:33:02 -0500 (Wed, 19 Feb 2025) EndedAt: 2025-02-19 17:59:01 -0500 (Wed, 19 Feb 2025) EllapsedTime: 1559.1 seconds RetCode: 0 Status: OK PackageFile: multiGSEA_1.17.3.tar.gz PackageFileSize: 952.7 KiB