Package: multiGSEA Version: 1.17.3 Command: /Library/Frameworks/R.framework/Resources/bin/R CMD check --install=check:multiGSEA.install-out.txt --library=/Library/Frameworks/R.framework/Resources/library --no-vignettes --timings multiGSEA_1.17.3.tar.gz StartedAt: 2025-02-19 20:28:02 -0500 (Wed, 19 Feb 2025) EndedAt: 2025-02-19 20:32:05 -0500 (Wed, 19 Feb 2025) EllapsedTime: 243.1 seconds RetCode: 0 Status: OK CheckDir: multiGSEA.Rcheck Warnings: 0