Package: multiClust Version: 1.37.0 Command: /Library/Frameworks/R.framework/Resources/bin/R CMD INSTALL multiClust StartedAt: 2025-02-19 15:21:22 -0500 (Wed, 19 Feb 2025) EndedAt: 2025-02-19 15:21:26 -0500 (Wed, 19 Feb 2025) EllapsedTime: 4.2 seconds RetCode: 0 Status: OK