Package: multiClust Version: 1.37.0 Command: /Library/Frameworks/R.framework/Resources/bin/R CMD check --install=check:multiClust.install-out.txt --library=/Library/Frameworks/R.framework/Resources/library --no-vignettes --timings multiClust_1.37.0.tar.gz StartedAt: 2025-02-19 20:27:52 -0500 (Wed, 19 Feb 2025) EndedAt: 2025-02-19 20:28:19 -0500 (Wed, 19 Feb 2025) EllapsedTime: 27.3 seconds RetCode: 0 Status: OK CheckDir: multiClust.Rcheck Warnings: 0