Package: msqrob2 Version: 1.15.0 Command: chmod a+r msqrob2 -R && E:\biocbuild\bbs-3.21-bioc\R\bin\R.exe CMD build --keep-empty-dirs --no-resave-data msqrob2 StartedAt: 2025-02-19 20:11:33 -0500 (Wed, 19 Feb 2025) EndedAt: 2025-02-19 20:12:41 -0500 (Wed, 19 Feb 2025) EllapsedTime: 67.6 seconds RetCode: 1 Status: ERROR PackageFile: None PackageFileSize: NA