Package: mspms Version: 0.99.7 Command: /home/biocbuild/bbs-3.21-bioc/R/bin/R CMD INSTALL mspms StartedAt: 2025-02-18 15:32:12 -0500 (Tue, 18 Feb 2025) EndedAt: 2025-02-18 15:32:16 -0500 (Tue, 18 Feb 2025) EllapsedTime: 4.1 seconds RetCode: 0 Status: OK