Package: mspms Version: 0.99.7 Command: /home/biocbuild/bbs-3.21-bioc/R/bin/R CMD build --keep-empty-dirs --no-resave-data mspms StartedAt: 2025-02-18 18:11:12 -0500 (Tue, 18 Feb 2025) EndedAt: 2025-02-18 18:13:41 -0500 (Tue, 18 Feb 2025) EllapsedTime: 149.2 seconds RetCode: 0 Status: OK PackageFile: mspms_0.99.7.tar.gz PackageFileSize: 3.337 MiB