Package: mspms Version: 0.99.7 Command: /Library/Frameworks/R.framework/Resources/bin/R CMD check --install=check:mspms.install-out.txt --library=/Library/Frameworks/R.framework/Resources/library --no-vignettes --timings mspms_0.99.7.tar.gz StartedAt: 2025-02-18 20:24:34 -0500 (Tue, 18 Feb 2025) EndedAt: 2025-02-18 20:27:41 -0500 (Tue, 18 Feb 2025) EllapsedTime: 187.3 seconds RetCode: 0 Status: OK CheckDir: mspms.Rcheck Warnings: 0