Package: msmsTests Version: 1.45.0 Command: E:\biocbuild\bbs-3.21-bioc\R\bin\R.exe CMD check --no-multiarch --install=check:msmsTests.install-out.txt --library=E:\biocbuild\bbs-3.21-bioc\R\library --no-vignettes --timings msmsTests_1.45.0.tar.gz StartedAt: 2025-02-21 03:36:11 -0500 (Fri, 21 Feb 2025) EndedAt: 2025-02-21 03:39:22 -0500 (Fri, 21 Feb 2025) EllapsedTime: 190.8 seconds RetCode: 0 Status: OK CheckDir: msmsTests.Rcheck Warnings: 0