Package: msmsTests Version: 1.45.0 Command: rm -rf msmsTests.buildbin-libdir && mkdir msmsTests.buildbin-libdir && E:\biocbuild\bbs-3.21-bioc\R\bin\R.exe CMD INSTALL --build --library=msmsTests.buildbin-libdir msmsTests_1.45.0.tar.gz StartedAt: 2025-02-21 08:36:43 -0500 (Fri, 21 Feb 2025) EndedAt: 2025-02-21 08:37:26 -0500 (Fri, 21 Feb 2025) EllapsedTime: 43.4 seconds RetCode: 0 Status: OK PackageFile: msmsTests_1.45.0.zip PackageFileSize: 345.7 KiB