Package: msmsTests Version: 1.45.0 Command: /home/biocbuild/bbs-3.21-bioc/R/bin/R CMD check --install=check:msmsTests.install-out.txt --library=/home/biocbuild/bbs-3.21-bioc/R/site-library --timings msmsTests_1.45.0.tar.gz StartedAt: 2025-02-20 23:55:41 -0500 (Thu, 20 Feb 2025) EndedAt: 2025-02-20 23:59:22 -0500 (Thu, 20 Feb 2025) EllapsedTime: 220.2 seconds RetCode: 0 Status: OK CheckDir: msmsTests.Rcheck Warnings: 0