Package: msmsTests Version: 1.45.0 Command: rm -rf msmsTests.buildbin-libdir && mkdir msmsTests.buildbin-libdir && /Users/biocbuild/BBS/utils/build-universal.sh msmsTests_1.45.0.tar.gz /Library/Frameworks/R.framework/Resources/bin/R msmsTests.buildbin-libdir StartedAt: 2025-02-21 00:41:50 -0500 (Fri, 21 Feb 2025) EndedAt: 2025-02-21 00:42:38 -0500 (Fri, 21 Feb 2025) EllapsedTime: 48.5 seconds RetCode: 0 Status: OK PackageFile: msmsTests_1.45.0.tgz PackageFileSize: 581.9 KiB