Package: msmsTests Version: 1.45.0 Command: /Library/Frameworks/R.framework/Resources/bin/R CMD check --install=check:msmsTests.install-out.txt --library=/Library/Frameworks/R.framework/Resources/library --no-vignettes --timings msmsTests_1.45.0.tar.gz StartedAt: 2025-02-20 20:21:57 -0500 (Thu, 20 Feb 2025) EndedAt: 2025-02-20 20:22:59 -0500 (Thu, 20 Feb 2025) EllapsedTime: 61.7 seconds RetCode: 0 Status: OK CheckDir: msmsTests.Rcheck Warnings: 0