Package: msmsTests Version: 1.45.0 Command: /Library/Frameworks/R.framework/Resources/bin/R CMD build --keep-empty-dirs --no-resave-data msmsTests StartedAt: 2025-02-20 17:03:09 -0500 (Thu, 20 Feb 2025) EndedAt: 2025-02-20 17:03:39 -0500 (Thu, 20 Feb 2025) EllapsedTime: 29.3 seconds RetCode: 0 Status: OK PackageFile: msmsTests_1.45.0.tar.gz PackageFileSize: 548.1 KiB