Package: msmsTests Version: 1.45.0 Command: rm -rf msmsTests.buildbin-libdir && mkdir msmsTests.buildbin-libdir && /Users/biocbuild/BBS/utils/build-universal.sh msmsTests_1.45.0.tar.gz /Library/Frameworks/R.framework/Resources/bin/R msmsTests.buildbin-libdir StartedAt: 2025-02-20 22:27:01 -0500 (Thu, 20 Feb 2025) EndedAt: 2025-02-20 22:27:16 -0500 (Thu, 20 Feb 2025) EllapsedTime: 14.3 seconds RetCode: 0 Status: OK PackageFile: msmsTests_1.45.0.tgz PackageFileSize: 583.6 KiB