Package: msmsEDA Version: 1.45.0 Command: E:\biocbuild\bbs-3.21-bioc\R\bin\R.exe CMD INSTALL msmsEDA StartedAt: 2025-02-20 16:36:40 -0500 (Thu, 20 Feb 2025) EndedAt: 2025-02-20 16:37:23 -0500 (Thu, 20 Feb 2025) EllapsedTime: 43.3 seconds RetCode: 0 Status: OK