Package: msmsEDA Version: 1.45.0 Command: chmod a+r msmsEDA -R && E:\biocbuild\bbs-3.21-bioc\R\bin\R.exe CMD build --keep-empty-dirs --no-resave-data msmsEDA StartedAt: 2025-02-20 20:11:56 -0500 (Thu, 20 Feb 2025) EndedAt: 2025-02-20 20:13:03 -0500 (Thu, 20 Feb 2025) EllapsedTime: 66.7 seconds RetCode: 0 Status: OK PackageFile: msmsEDA_1.45.0.tar.gz PackageFileSize: 335.8 KiB